BEGIN:VCALENDAR
VERSION:2.0
PRODID:-//Strážci údolí - ECPv6.15.17//NONSGML v1.0//EN
CALSCALE:GREGORIAN
METHOD:PUBLISH
X-ORIGINAL-URL:https://www.strazciudoli.cz
X-WR-CALDESC:Akce na Strážci údolí
REFRESH-INTERVAL;VALUE=DURATION:PT1H
X-Robots-Tag:noindex
X-PUBLISHED-TTL:PT1H
BEGIN:VTIMEZONE
TZID:Europe/Prague
BEGIN:DAYLIGHT
TZOFFSETFROM:+0100
TZOFFSETTO:+0200
TZNAME:CEST
DTSTART:20250330T010000
END:DAYLIGHT
BEGIN:STANDARD
TZOFFSETFROM:+0200
TZOFFSETTO:+0100
TZNAME:CET
DTSTART:20251026T010000
END:STANDARD
BEGIN:DAYLIGHT
TZOFFSETFROM:+0100
TZOFFSETTO:+0200
TZNAME:CEST
DTSTART:20260329T010000
END:DAYLIGHT
BEGIN:STANDARD
TZOFFSETFROM:+0200
TZOFFSETTO:+0100
TZNAME:CET
DTSTART:20261025T010000
END:STANDARD
BEGIN:DAYLIGHT
TZOFFSETFROM:+0100
TZOFFSETTO:+0200
TZNAME:CEST
DTSTART:20270328T010000
END:DAYLIGHT
BEGIN:STANDARD
TZOFFSETFROM:+0200
TZOFFSETTO:+0100
TZNAME:CET
DTSTART:20271031T010000
END:STANDARD
END:VTIMEZONE
BEGIN:VEVENT
DTSTART;VALUE=DATE:20260110
DTEND;VALUE=DATE:20260111
DTSTAMP:20260420T113628
CREATED:20251130T101448Z
LAST-MODIFIED:20260106T131745Z
UID:1535-1768003200-1768089599@www.strazciudoli.cz
SUMMARY:Zimní sněm
DESCRIPTION:V sobotu 10.1. proběhne tradiční zimní sněm kmene. Sněm je určený pro všechny členy a přátelé kmene\, takže ať už jste skřítek nebo velký orlí sachem ipawa\, určitě se dostavte.\n\nOd 9:00 do 11:00 zasedá kmenová Rada orlích per v klubovně. ROP se těšíme se na všechny činy\, které jste si splnili od tábora\, a doufáme\, že se objeví i nějací skřítci s pěknými korálovými činy. Kdo si chce uznat nějaké činy\, které nedokáže přinést nebo jsou jinak náročné\, doporučuju kontaktovat předsedu ROP Stázku (stazka@strazciudoli.cz).\n\nV 13:00 se otevře školka Píšťalka a proběhnou přípravy na sněm\, který začne hned nato.\nPo sněmu se volně přesuneme k promítání kmenových fotek a zájemci si můžou zahrát i nějaké deskovky. Určitě oceníme nějakou drobnou buchnu nebo jiné občerstvení. Ideálně vlastnoručně upečené na jeden z činů 4G ;). Na sněm a posněmovní promítání jsou zváni úplně všichni\, i rodiče! Na sněmu se bude mimo jiné představovat systém půjčování kmenového majetku pro osobní účely.
URL:https://www.strazciudoli.cz/event/zimni-snem-2/
END:VEVENT
END:VCALENDAR