BEGIN:VCALENDAR
VERSION:2.0
PRODID:-//Strážci údolí - ECPv6.15.17//NONSGML v1.0//EN
CALSCALE:GREGORIAN
METHOD:PUBLISH
X-WR-CALNAME:Strážci údolí
X-ORIGINAL-URL:https://www.strazciudoli.cz
X-WR-CALDESC:Akce na Strážci údolí
REFRESH-INTERVAL;VALUE=DURATION:PT1H
X-Robots-Tag:noindex
X-PUBLISHED-TTL:PT1H
BEGIN:VTIMEZONE
TZID:Europe/Prague
BEGIN:DAYLIGHT
TZOFFSETFROM:+0100
TZOFFSETTO:+0200
TZNAME:CEST
DTSTART:20250330T010000
END:DAYLIGHT
BEGIN:STANDARD
TZOFFSETFROM:+0200
TZOFFSETTO:+0100
TZNAME:CET
DTSTART:20251026T010000
END:STANDARD
BEGIN:DAYLIGHT
TZOFFSETFROM:+0100
TZOFFSETTO:+0200
TZNAME:CEST
DTSTART:20260329T010000
END:DAYLIGHT
BEGIN:STANDARD
TZOFFSETFROM:+0200
TZOFFSETTO:+0100
TZNAME:CET
DTSTART:20261025T010000
END:STANDARD
BEGIN:DAYLIGHT
TZOFFSETFROM:+0100
TZOFFSETTO:+0200
TZNAME:CEST
DTSTART:20270328T010000
END:DAYLIGHT
BEGIN:STANDARD
TZOFFSETFROM:+0200
TZOFFSETTO:+0100
TZNAME:CET
DTSTART:20271031T010000
END:STANDARD
END:VTIMEZONE
BEGIN:VEVENT
DTSTART;TZID=Europe/Prague:20260314T093000
DTEND;TZID=Europe/Prague:20260314T160000
DTSTAMP:20260420T033908
CREATED:20260301T190806Z
LAST-MODIFIED:20260301T191645Z
UID:1565-1773480600-1773504000@www.strazciudoli.cz
SUMMARY:Výlet do Šestajovic
DESCRIPTION:Hau kola\, \nráda bych Vás všechny pozvala na jednodenní výlet\, který se uskuteční v sobotu 14.3.2026. \nPojedeme do areálu Rodas (https://www.rodas.cz/) v Šestajovicích\, kde si vyrobíme čokoládová lízátka/tabulky\, svíčku a možná ještě něco dalšího podle chuti.\nTěšit se můžete i na nějaká zvířátka a procházku (přibližně 6 km) v přírodě. \nSraz bude na Lužinách v 9:30. Návrat kolem 16 hodiny opět na Lužiny.\nCena akce bude cca 300 Kč (cesta + cena za výrobu). \nPřihlaste se prosím nejpozději do 11.3. skrz formulář:\nhttps://forms.gle/E5xu3wLTXCFzQf4k6 \nPodrobnější informace pošlu před akcí přihlášeným.\nV případě jakýchkoli nejasností se na mě nebojte obrátit na mail anastazie.oplistilova@strazciudoli.cz. \nTěším se na Vás!\nS modrou oblohou \n\n\n\n\n\nAnastázie Oplištilová – Stázka\nanastazie.oplistilova@strazciudoli.cz
URL:https://www.strazciudoli.cz/event/vylet-do-sestajovic/
END:VEVENT
END:VCALENDAR