BEGIN:VCALENDAR
VERSION:2.0
PRODID:-//Strážci údolí - ECPv6.15.17//NONSGML v1.0//EN
CALSCALE:GREGORIAN
METHOD:PUBLISH
X-ORIGINAL-URL:https://www.strazciudoli.cz
X-WR-CALDESC:Akce na Strážci údolí
REFRESH-INTERVAL;VALUE=DURATION:PT1H
X-Robots-Tag:noindex
X-PUBLISHED-TTL:PT1H
BEGIN:VTIMEZONE
TZID:Europe/Prague
BEGIN:DAYLIGHT
TZOFFSETFROM:+0100
TZOFFSETTO:+0200
TZNAME:CEST
DTSTART:20240331T010000
END:DAYLIGHT
BEGIN:STANDARD
TZOFFSETFROM:+0200
TZOFFSETTO:+0100
TZNAME:CET
DTSTART:20241027T010000
END:STANDARD
BEGIN:DAYLIGHT
TZOFFSETFROM:+0100
TZOFFSETTO:+0200
TZNAME:CEST
DTSTART:20250330T010000
END:DAYLIGHT
BEGIN:STANDARD
TZOFFSETFROM:+0200
TZOFFSETTO:+0100
TZNAME:CET
DTSTART:20251026T010000
END:STANDARD
BEGIN:DAYLIGHT
TZOFFSETFROM:+0100
TZOFFSETTO:+0200
TZNAME:CEST
DTSTART:20260329T010000
END:DAYLIGHT
BEGIN:STANDARD
TZOFFSETFROM:+0200
TZOFFSETTO:+0100
TZNAME:CET
DTSTART:20261025T010000
END:STANDARD
END:VTIMEZONE
BEGIN:VEVENT
DTSTART;TZID=Europe/Prague:20251123T084500
DTEND;TZID=Europe/Prague:20251123T154500
DTSTAMP:20260419T230258
CREATED:20251115T212920Z
LAST-MODIFIED:20251115T213112Z
UID:1525-1763887500-1763912700@www.strazciudoli.cz
SUMMARY:Výlet do ZOO
DESCRIPTION:Hau kola\, \n\nv neděli 23. 11. se v rámci jednodenního výletu podíváme do Zooparku Zájezd. Můžete se tam těšit na výběh s pěti druhy lemurů. Máme také domluvenou soukromou prohlídku terárií\, kde se nachází největší sbírka chameleonů v Evropě. Pokud půjde prohlídka podle plánu\, bude na konci možnost pohladit si hada!\nAkce je určena pro schůzkové děti. Pokud se chcete účastnit jako dospělý člen kmene\,\nmůžete se přidat jako doprovod.\n\nKdy: neděle 23. 11. 2025\nKde: sraz před metrem Lužiny v 8:45.\nS sebou: oběd nebo větší svačinu\, pití\, 250 kč (v tom je započtené vstupné do Zooparku\, komentovaná prohlídka\, cesta tam i zpět)\, Lítačku\, studentský průkaz ISIC\nPravděpodobný návrat bude v 15:45 opět před metrem Lužiny.\n\nProsím\, přihlašte se tady: https://docs.google.com/forms/d/e/1FAIpQLSdIC1zyTzfwXapM1v0lrDHscRiAj3QE-ZFqFxk8Y-eHyMOMuA/viewform?usp=dialog\nKontakt na mě: Anna Jílková – Kápa (731 887 271)\n\nMoc se na všechny těším.\nS modrou oblohou\,\nKápa
URL:https://www.strazciudoli.cz/event/vylet-do-zoo/
END:VEVENT
BEGIN:VEVENT
DTSTART;TZID=Europe/Prague:20251128T080000
DTEND;TZID=Europe/Prague:20251130T170000
DTSTAMP:20260419T230258
CREATED:20250818T101553Z
LAST-MODIFIED:20251115T220301Z
UID:1497-1764316800-1764522000@www.strazciudoli.cz
SUMMARY:Víkend pro VL
DESCRIPTION:Pro členy VL – viz email; další informace nebudu zveřejňovat takhle na internetu
URL:https://www.strazciudoli.cz/event/stmelovaci-vikend-pro-vl/
END:VEVENT
END:VCALENDAR