BEGIN:VCALENDAR
VERSION:2.0
PRODID:-//Strážci údolí - ECPv6.15.17//NONSGML v1.0//EN
CALSCALE:GREGORIAN
METHOD:PUBLISH
X-ORIGINAL-URL:https://www.strazciudoli.cz
X-WR-CALDESC:Akce na Strážci údolí
REFRESH-INTERVAL;VALUE=DURATION:PT1H
X-Robots-Tag:noindex
X-PUBLISHED-TTL:PT1H
BEGIN:VTIMEZONE
TZID:Europe/Prague
BEGIN:DAYLIGHT
TZOFFSETFROM:+0100
TZOFFSETTO:+0200
TZNAME:CEST
DTSTART:20240331T010000
END:DAYLIGHT
BEGIN:STANDARD
TZOFFSETFROM:+0200
TZOFFSETTO:+0100
TZNAME:CET
DTSTART:20241027T010000
END:STANDARD
BEGIN:DAYLIGHT
TZOFFSETFROM:+0100
TZOFFSETTO:+0200
TZNAME:CEST
DTSTART:20250330T010000
END:DAYLIGHT
BEGIN:STANDARD
TZOFFSETFROM:+0200
TZOFFSETTO:+0100
TZNAME:CET
DTSTART:20251026T010000
END:STANDARD
BEGIN:DAYLIGHT
TZOFFSETFROM:+0100
TZOFFSETTO:+0200
TZNAME:CEST
DTSTART:20260329T010000
END:DAYLIGHT
BEGIN:STANDARD
TZOFFSETFROM:+0200
TZOFFSETTO:+0100
TZNAME:CET
DTSTART:20261025T010000
END:STANDARD
END:VTIMEZONE
BEGIN:VEVENT
DTSTART;TZID=Europe/Prague:20251223T093000
DTEND;TZID=Europe/Prague:20251223T123000
DTSTAMP:20260420T034931
CREATED:20250818T101654Z
LAST-MODIFIED:20251204T083013Z
UID:1499-1766482200-1766493000@www.strazciudoli.cz
SUMMARY:Krmení zvířátek
DESCRIPTION:Hau kóla\, \nrok se s rokem sešel a nám se blíží období Vánoc. Rád bych vás všechny pozval na poslední akci tohoto roku a tím je tradiční krmení zvířátek. \nZvaní jsou bojovníci pondělní schůzky\, úterní schůzky\, středeční schůzky\, Velké lóže\, stařešinové kmene\, přátelé kmene\, rodiče\, prostě všichni kdo mají zájem se v tomto pěkném vánočním období sejít a dát něco drobného i zvířátkům. Sejdeme se společně před klubovnou v úterý 23. 12. v 9:30. Společně se vydáme do Prokopáku\, kde v lomu proběhne obřad a následně rozvěsíme dobrůtky pro zvířátka. Pak dojdeme zpátky ke klubovně. Počítejte že to bude trvat třeba 3 hodiny. \nCo s sebou? Určitě si vezměte teplé oblečení a pořádné boty. Počítejte s tím\, že bývá i bahno a letošní předpověď není moc pozitivní v tomhle ohledu. Pro zvířátka vezměte různé dobrůtky (mrkve\, jablka\, semínka\, lojové koule – zkuste prosím omezit sušený chleba – zvířátkům to nedělá dobře)\, pro sebe si taku vezměte nějaké dobrůtky (cukroví ať se můžeme všichni podělit\, teplý nápoj v termosce ;-)). \nUžijte si tento předvánoční čas a na viděnou před vánoci na zvířátkách. \nŠtofi
URL:https://www.strazciudoli.cz/event/zviratka/
END:VEVENT
END:VCALENDAR