BEGIN:VCALENDAR
VERSION:2.0
PRODID:-//Strážci údolí - ECPv6.15.17//NONSGML v1.0//EN
CALSCALE:GREGORIAN
METHOD:PUBLISH
X-ORIGINAL-URL:https://www.strazciudoli.cz
X-WR-CALDESC:Akce na Strážci údolí
REFRESH-INTERVAL;VALUE=DURATION:PT1H
X-Robots-Tag:noindex
X-PUBLISHED-TTL:PT1H
BEGIN:VTIMEZONE
TZID:Europe/Prague
BEGIN:DAYLIGHT
TZOFFSETFROM:+0100
TZOFFSETTO:+0200
TZNAME:CEST
DTSTART:20250330T010000
END:DAYLIGHT
BEGIN:STANDARD
TZOFFSETFROM:+0200
TZOFFSETTO:+0100
TZNAME:CET
DTSTART:20251026T010000
END:STANDARD
BEGIN:DAYLIGHT
TZOFFSETFROM:+0100
TZOFFSETTO:+0200
TZNAME:CEST
DTSTART:20260329T010000
END:DAYLIGHT
BEGIN:STANDARD
TZOFFSETFROM:+0200
TZOFFSETTO:+0100
TZNAME:CET
DTSTART:20261025T010000
END:STANDARD
BEGIN:DAYLIGHT
TZOFFSETFROM:+0100
TZOFFSETTO:+0200
TZNAME:CEST
DTSTART:20270328T010000
END:DAYLIGHT
BEGIN:STANDARD
TZOFFSETFROM:+0200
TZOFFSETTO:+0100
TZNAME:CET
DTSTART:20271031T010000
END:STANDARD
END:VTIMEZONE
BEGIN:VEVENT
DTSTART;VALUE=DATE:20260110
DTEND;VALUE=DATE:20260111
DTSTAMP:20260420T082509
CREATED:20251130T101448Z
LAST-MODIFIED:20260106T131745Z
UID:1535-1768003200-1768089599@www.strazciudoli.cz
SUMMARY:Zimní sněm
DESCRIPTION:V sobotu 10.1. proběhne tradiční zimní sněm kmene. Sněm je určený pro všechny členy a přátelé kmene\, takže ať už jste skřítek nebo velký orlí sachem ipawa\, určitě se dostavte.\n\nOd 9:00 do 11:00 zasedá kmenová Rada orlích per v klubovně. ROP se těšíme se na všechny činy\, které jste si splnili od tábora\, a doufáme\, že se objeví i nějací skřítci s pěknými korálovými činy. Kdo si chce uznat nějaké činy\, které nedokáže přinést nebo jsou jinak náročné\, doporučuju kontaktovat předsedu ROP Stázku (stazka@strazciudoli.cz).\n\nV 13:00 se otevře školka Píšťalka a proběhnou přípravy na sněm\, který začne hned nato.\nPo sněmu se volně přesuneme k promítání kmenových fotek a zájemci si můžou zahrát i nějaké deskovky. Určitě oceníme nějakou drobnou buchnu nebo jiné občerstvení. Ideálně vlastnoručně upečené na jeden z činů 4G ;). Na sněm a posněmovní promítání jsou zváni úplně všichni\, i rodiče! Na sněmu se bude mimo jiné představovat systém půjčování kmenového majetku pro osobní účely.
URL:https://www.strazciudoli.cz/event/zimni-snem-2/
END:VEVENT
BEGIN:VEVENT
DTSTART;VALUE=DATE:20260111
DTEND;VALUE=DATE:20260112
DTSTAMP:20260420T082509
CREATED:20251130T101528Z
LAST-MODIFIED:20260106T132446Z
UID:1537-1768089600-1768175999@www.strazciudoli.cz
SUMMARY:Bitva o Lužiny
DESCRIPTION:Hau kóla všem\, v neděli nás čeká bitva o Lužiny. Z(ne)přátelený kmen Ťapáčů se začal roztahovat a je tedy na nás abychom jim ukázali\, který kmen na Lužinách vládne. Sejdeme se před metrem Lužiny v neděli 11. 1. v 8:50\, pak proběhne představení pravidel a samotná hra. Konec akce je stanovený na 14:00\, ale většinou zvládne skončit i dřív (a v tomhle mrazu obzvlášť). S sebou teplé oblečení a pití. V příloze posílám pozvánku od Ťapáčů. Oproti Ťapáčům\, tak my se nemusíme nikde hlásit\, stačí přijít. A kdybyste měli nějaké otázky\, tak je směřujte na mě (přes mail/tel.) Posílám v příloze ještě pár historických fotek . A nezapomeňte na sobotní sněm
URL:https://www.strazciudoli.cz/event/bitva-o-luziny-2/
END:VEVENT
BEGIN:VEVENT
DTSTART;TZID=Europe/Prague:20260129T080000
DTEND;TZID=Europe/Prague:20260201T170000
DTSTAMP:20260420T082509
CREATED:20251130T101646Z
LAST-MODIFIED:20260127T142425Z
UID:1539-1769673600-1769965200@www.strazciudoli.cz
SUMMARY:Vyráběcí víkend
DESCRIPTION:Hau kóla\,\nchybí ti nějaký čin ze 3.světla k tomu\, abys dosáhl na další titul? V každodenním shonu nemáš čas vyrobit to\, co bys na táboření chtěl/a mít\, nevíš jak na to\, nebo prostě rád/a vyrábíš? Tak právě pro tebe je tato akce jak dělaná. Vyráběcí víkend letos opět proběhne v Srbech u Kladna v domečku.\nAkce je určená pro všechny\, kteří si chtějí něco vyrobit a vydrží u toho celý den.\nZvažte tedy prosím\, jestli je tato akce pro vás.\nPojedeme v pátek 30. 1. 26\, sraz bude na Lužinách v 15:20. Návrat je v neděli 1. 2. 26 cca v 14h opět na Lužiny. \n\nKmen Jestřábi nás vyzval do souboje v uzlování\, tak si připravte uzlovačky\, nenecháme se zahanbit :-).\nCo se týče vyrábění\, tak můžu vzít vypalovačku do dřeva a můžete si ozdobit nějaký dřevěný výrobek.\nK dispozici také bude kmenový šicí stroj. Vezměte si nitě do barvy svého výrobku.\nMůžete vytáhnout vyrábění\, které už tak dlouho odkládáte a konečně se na něj najde čas.\nBudete-li potřebovat radu\, nebo budete-li v nesnázích\, tak vám s vyráběním rády pomůžou zkušenější bojovnice\, či bojovníci. Podle zájmu je možná i procházka zimní přírodou.\nV domečku se spí na zemi\, tak si zabal karimatku\, spacák\, oblečení\, přezůvky!!!\, osobní hygienu a věci na vyrábění.\nKuchyň je zde vybavená.\nZačínáme páteční večeří\, končíme v neděli brzkým obědem.\nČástku za jídlo\, cestu a ubytování pošlu v dodatečném mailu.\n\n\n\n\nPřihlašujte se prosím na mail radakoprivova@seznam.cz\nNa tento mail pište i jakékoliv dotazy ohledně vyráběcího víkendu.
URL:https://www.strazciudoli.cz/event/vyrabeci-vikend-2/
END:VEVENT
END:VCALENDAR